BEGIN:VCALENDAR
VERSION:2.0
PRODID:-//Tukios.com/
BEGIN:VEVENT
UID:d59ab419-b98d-49eb-a9de-366f9d4ad921@www.forestparkfh.com
DTSTAMP:20260420T231817Z
DTSTART:20260425T143000Z
DTEND:20260425T153000Z
SUMMARY:Graveside Service
DESCRIPTION:
URL:https://www.forestparkfh.com/obituaries/margaret-scott
LOCATION: 3700 St Vincent Ave  Shreveport LA 71103
GEO:32.4745533;-93.7595592
END:VEVENT
END:VCALENDAR