BEGIN:VCALENDAR
VERSION:2.0
PRODID:-//Tukios.com/
BEGIN:VEVENT
UID:4d02f297-1177-4140-bdee-4de0e3d8f864@www.forestparkfh.com
DTSTAMP:20260423T164723Z
DTSTART:20260425T173000Z
DTEND:20260425T183000Z
SUMMARY:Interment
DESCRIPTION:
URL:https://www.forestparkfh.com/obituaries/herbert-coleman-sr
LOCATION: 4000 Meriwether Rd  Shreveport LA 71109
GEO:32.430374;-93.824037
END:VEVENT
END:VCALENDAR