BEGIN:VCALENDAR
VERSION:2.0
PRODID:-//Tukios.com/
BEGIN:VEVENT
UID:ae5d85df-dde3-441f-aa89-84467b421788@www.forestparkfh.com
DTSTAMP:20260423T164604Z
DTSTART:20260425T160000Z
DTEND:20260425T170000Z
SUMMARY:Funeral Service
DESCRIPTION:
URL:https://www.forestparkfh.com/obituaries/herbert-coleman-sr
LOCATION: 1201 Louisiana Ave  Shreveport LA 71101
GEO:32.5004062;-93.7445822
END:VEVENT
END:VCALENDAR