BEGIN:VCALENDAR
VERSION:2.0
PRODID:-//Tukios.com/
BEGIN:VEVENT
UID:ffbd0348-c71d-4ce3-b373-957154d39dac@www.forestparkfh.com
DTSTAMP:20260423T164900Z
DTSTART:20260424T220000Z
DTEND:20260425T000000Z
SUMMARY:Visitation
DESCRIPTION:
URL:https://www.forestparkfh.com/obituaries/herbert-coleman-sr
LOCATION: 1201 Louisiana Ave  Shreveport LA 71101
GEO:32.5004062;-93.7445822
END:VEVENT
END:VCALENDAR