BEGIN:VCALENDAR
VERSION:2.0
PRODID:-//Tukios.com/
BEGIN:VEVENT
UID:68475cb2-5b68-4b1a-9d85-2dd6431ccaa8@www.forestparkfh.com
DTSTAMP:20260422T084517Z
DTSTART:20260418T160000Z
DTEND:20260418T170000Z
SUMMARY:Funeral Service
DESCRIPTION:
URL:https://www.forestparkfh.com/obituaries/don-wyatt
LOCATION: 1201 Louisiana Ave  Shreveport LA 71101
GEO:32.5004062;-93.7445822
END:VEVENT
END:VCALENDAR