BEGIN:VCALENDAR
VERSION:2.0
PRODID:-//Tukios.com/
BEGIN:VEVENT
UID:d4abd846-200a-48dc-ad37-fb441c438efe@www.forestparkfh.com
DTSTAMP:20260420T081728Z
DTSTART:20260418T150000Z
DTEND:20260418T160000Z
SUMMARY:Visitation
DESCRIPTION:
URL:https://www.forestparkfh.com/obituaries/don-wyatt
LOCATION: 1201 Louisiana Ave  Shreveport LA 71101
GEO:32.5004062;-93.7445822
END:VEVENT
END:VCALENDAR